BEGIN:VCALENDAR
VERSION:2.0
PRODID:-//Surface sans cible - ECPv6.15.20//NONSGML v1.0//EN
CALSCALE:GREGORIAN
METHOD:PUBLISH
X-WR-CALNAME:Surface sans cible
X-ORIGINAL-URL:https://surfacesanscible.fr
X-WR-CALDESC:Évènements pour Surface sans cible
REFRESH-INTERVAL;VALUE=DURATION:PT1H
X-Robots-Tag:noindex
X-PUBLISHED-TTL:PT1H
BEGIN:VTIMEZONE
TZID:Europe/Paris
BEGIN:DAYLIGHT
TZOFFSETFROM:+0100
TZOFFSETTO:+0200
TZNAME:CEST
DTSTART:20240331T010000
END:DAYLIGHT
BEGIN:STANDARD
TZOFFSETFROM:+0200
TZOFFSETTO:+0100
TZNAME:CET
DTSTART:20241027T010000
END:STANDARD
BEGIN:DAYLIGHT
TZOFFSETFROM:+0100
TZOFFSETTO:+0200
TZNAME:CEST
DTSTART:20250330T010000
END:DAYLIGHT
BEGIN:STANDARD
TZOFFSETFROM:+0200
TZOFFSETTO:+0100
TZNAME:CET
DTSTART:20251026T010000
END:STANDARD
BEGIN:DAYLIGHT
TZOFFSETFROM:+0100
TZOFFSETTO:+0200
TZNAME:CEST
DTSTART:20260329T010000
END:DAYLIGHT
BEGIN:STANDARD
TZOFFSETFROM:+0200
TZOFFSETTO:+0100
TZNAME:CET
DTSTART:20261025T010000
END:STANDARD
END:VTIMEZONE
BEGIN:VEVENT
DTSTART;TZID=Europe/Paris:20250120T060000
DTEND;TZID=Europe/Paris:20250310T055959
DTSTAMP:20260420T070655
CREATED:20241111T151046Z
LAST-MODIFIED:20250315T152528Z
UID:1739-1737352800-1741586399@surfacesanscible.fr
SUMMARY:1000 portraits pour un millénaire
DESCRIPTION:Mille portraits de caennais pour inaugurer les fêtes du millénaire. Une exposition scénographiée dans la prestigieuse salle du Scriptorium lieu emblématique des grandes expositions caennaises. Habitués du lieu\, les artistes photographes du collectif Surface Sans Cible ont choisi de mettre à l’honneur ces habitants qui font la richesse de notre cité. Chaque photographe avec son style\, sa sensibilité\, sa technique\, a su capter les regards et les silhouettes de ceux qu’on croise tous les jours et qui font vivre et battre le cœur de notre belle ville de Caen. Un album souvenir sera mis en vente au sein de l’exposition. \nEntrée : 4€\, gratuit pour les Caennais \n  \nIls et elles prennent la pose ces Caennaises et ces caennais\, sans s’encanailler ni cancaner…\nni caner- ils sont bien vivants !\nIls ont l’œil qui pétille\nLe regard qui frétille\nFier(e)s -et ils-elles ont bien raison- fiers d’être là\nDe dessiner la ville\nEn mille portraits\nMille Émile\, Robert\, Jean-Pierre et autre Paul\nUn millier d’Émilie\, Rolande\, et autre Odile\nDes garçons et des filles\nNi séniles\, ni puérils\nQui défilent\nPlutôt de face que de profil\nForcément immobiles\nAttrappé(e)s par le clic clac\nSans trac\, ils et elles Prennent la pose\nQuand le-la photographe compose\nDes bonnes bouilles Sans embrouille\nDes jolies têtes\nDes binettes\nEt si Huguette fait sa coquette\nQuand Paulette fait sa vedette\nElles ont bien le droit\nLa photo\, c’est aussi fait pour ça\nEt si Bernard fait son vantard\nValentin fait son cabotin\nQuand Quentin fait son malin\nIls ont bien raison\nLa photo c’est aussi fait pour ça\nQuant Elvire a son Fou rire\nMaëlys a les yeux qui plissent de malice\nEt quand Alice entre en lice\nÇa passe crème\, ça glisse\nA l’aise Blaise\, Cool Raoul\, tranquille Émile\, serein Martin\nLa photo c’est aussi fait pour ça.\nBelles figures natures\nDes frimousses douces ou rousses\nDes faces qui ont la classe\nDes physionomies comme une tendre accalmie\nDans ce monde où l’aigreur et la fureur sont des épidémies\nMille tronches sans mensonges\nQui offrent leur joie de vivre\, leur gaieté ou leur mélancolie à la ville \nDes vagues de yeux\, des yeux dans le vague\nPupilles à nus ou à lunettes\nPaupières plissées ou écarquillées\nVous nous regardez\, vous vous regardez\nEn bienveillance croisée\nAlors tous ces portraits sont jolis\, gracieux\, agréables\, charmants\nComme une belle rencontre entre les photographes de Surface Sans Cible et vous.\nComme un partage\nBeaux visages de métissages\nDes montagnes de sourires\nDes forêts de regards\nUne diversité de la cité\nDes portraits en paysage d’un vivre ensemble sans peur ni haine\nUne plaine immense\, humaine.\nDans ces photos en pêlemêle\nVous êtes toutes et tous des top-models\nVos visages n’ont pas besoin d’être éclairé : ils sont la lumière\nQui illumine la ville de Caen qui fête\, avec vous\, son millénaire.
URL:https://surfacesanscible.fr/exposition/1000-portraits-pour-un-millenaire/
LOCATION:Scriptorium de l’hôtel de ville de Caen\, Esp. Jean-Marie Louvel\, Caen\, 14000\, France
CATEGORIES:Exposition,Photographie
END:VEVENT
END:VCALENDAR