BEGIN:VCALENDAR
VERSION:2.0
PRODID:-//Surface sans cible - ECPv6.15.20//NONSGML v1.0//EN
CALSCALE:GREGORIAN
METHOD:PUBLISH
X-ORIGINAL-URL:https://surfacesanscible.fr
X-WR-CALDESC:Évènements pour Surface sans cible
REFRESH-INTERVAL;VALUE=DURATION:PT1H
X-Robots-Tag:noindex
X-PUBLISHED-TTL:PT1H
BEGIN:VTIMEZONE
TZID:Europe/Paris
BEGIN:DAYLIGHT
TZOFFSETFROM:+0100
TZOFFSETTO:+0200
TZNAME:CEST
DTSTART:20240331T010000
END:DAYLIGHT
BEGIN:STANDARD
TZOFFSETFROM:+0200
TZOFFSETTO:+0100
TZNAME:CET
DTSTART:20241027T010000
END:STANDARD
BEGIN:DAYLIGHT
TZOFFSETFROM:+0100
TZOFFSETTO:+0200
TZNAME:CEST
DTSTART:20250330T010000
END:DAYLIGHT
BEGIN:STANDARD
TZOFFSETFROM:+0200
TZOFFSETTO:+0100
TZNAME:CET
DTSTART:20251026T010000
END:STANDARD
BEGIN:DAYLIGHT
TZOFFSETFROM:+0100
TZOFFSETTO:+0200
TZNAME:CEST
DTSTART:20260329T010000
END:DAYLIGHT
BEGIN:STANDARD
TZOFFSETFROM:+0200
TZOFFSETTO:+0100
TZNAME:CET
DTSTART:20261025T010000
END:STANDARD
END:VTIMEZONE
BEGIN:VEVENT
DTSTART;TZID=Europe/Paris:20250411T100000
DTEND;TZID=Europe/Paris:20250417T183000
DTSTAMP:20260420T213232
CREATED:20250401T093044Z
LAST-MODIFIED:20250401T093044Z
UID:3374-1744365600-1744914600@surfacesanscible.fr
SUMMARY:Vent de jeunesse
DESCRIPTION:Depuis toujours Surface Sans Cible à cherché à promouvoir de jeunes artistes photographes. C’était la volonté de son Président fondateur Bernard Caillaud et depuis sa refondation en 2013\, SSC n’a eu de cesse d’ouvrir ses cimaises à de jeunes créateurs en devenir. SSC propose de découvrir les images de 6 jeunes artistes talentueux et originaux. Un vent de jeunesse souffle sur Ouistreham ! Attention ça décoiffe ! Cette première exposition proposée à de jeunes photo- graphes de moins de trente ans est le prélude à l’organisation d’un festival de la jeune photographie normande en 2026. Vous avez moins de trente ans\, vous avez une maitrise de la technique de l’image argentique ou numérique\, vous souhaitez présenter vos images à un large public dans le cadre d’un festival dans de multiples lieux dans la région Normande\, contactez dès à présent SSC\, par mail uniquement\, pour recevoir les modalités de candidature.
URL:https://surfacesanscible.fr/exposition/vent-de-jeunesse/
LOCATION:Galerie Delobel Ouistreham Riva-Bella\, Pl. Alfred Thomas\, Ouistreham\, 14150\, France
CATEGORIES:Exposition
END:VEVENT
BEGIN:VEVENT
DTSTART;TZID=Europe/Paris:20250425T150000
DTEND;TZID=Europe/Paris:20250501T180000
DTSTAMP:20260420T213232
CREATED:20250417T173236Z
LAST-MODIFIED:20250428T194135Z
UID:3416-1745593200-1746122400@surfacesanscible.fr
SUMMARY:Parcours croisés : Italie
DESCRIPTION:Nouveau « parcours croisés » qui\, on le rappelle\, présente le travail de deux photographes sur un même thème. Après Cuba\, l’Andalousie et l’Éthiopie\, c’est l’Italie que nous présentent Benoit Lechartier et Gilles Vilquin. Deux visions d’un même pays qu’ils nous proposent avec leur regard\, leur style et leur sensibilité de photographe. Deux approches différentes et complémentaires d’un même sujet. En marge de cette exposition\, une projection au cinéma le Trianon d’un documentaire extrait de la série «Enquêtes d’ailleurs» (ARTE) de Dominique Adt sur les premiers chrétiens à Rome. \n  \nDans ces images à la beauté immobile\,\nPasse une Italie.\nUne Italie qui passe de la couleur au noir et blanc\nComme une pizza qui aurait trop cuit\nComme un linge séché au soleil qui perdrait ses coloris\nA force de lumière.\nLes Italiens sont des Français de bonne humeur\, disait Cocteau\nAlors à travers une ruelle encastrée de soleil\,\nUne façade racontant des millénaires d’histoire\nGilles et Benoît nous communiquent cette bonne humeur\,\nCe sourire transalpin chaleureux comme une lasagne sortie du four\nIls récapitulent leur péninsule\nChaussant leur nikon comme on enfilerait une botte\nIls nous inoculent sans scrupules\nUne joie de vivre venue du fin fond des pouilles ou de Toscane…\nAlors voici\, mes amis\, des images qui chantent\,\nEntonnent un pays de joie et de combats\nFredonnent une contrée de foi et d’autrefois\nBarytonnent une terre d’émois et de polenta\nSi les photographies de Gilles et Benoît chantent\,\nIl faut vraiment leur dédier ce couplet :\n« Tu chantais comme chante un enfant\nTu étais gai comme un italien\nQuand il sait qu’il aura de l’amour et du vin » \nAuteur : Dominique Adt – Président de Surface Sans Cible
URL:https://surfacesanscible.fr/exposition/parcours-croises-italie/
LOCATION:Galerie Le Trianon\, Lion-sur-Mer\, 14780
CATEGORIES:Exposition
END:VEVENT
END:VCALENDAR